BEGIN:VCALENDAR
VERSION:2.0
PRODID:-//PSYLY - ECPv6.15.20//NONSGML v1.0//EN
CALSCALE:GREGORIAN
METHOD:PUBLISH
X-WR-CALNAME:PSYLY
X-ORIGINAL-URL:https://www.psyly.me
X-WR-CALDESC:Events voor PSYLY
REFRESH-INTERVAL;VALUE=DURATION:PT1H
X-Robots-Tag:noindex
X-PUBLISHED-TTL:PT1H
BEGIN:VTIMEZONE
TZID:Europe/Brussels
BEGIN:DAYLIGHT
TZOFFSETFROM:+0100
TZOFFSETTO:+0200
TZNAME:CEST
DTSTART:20250330T010000
END:DAYLIGHT
BEGIN:STANDARD
TZOFFSETFROM:+0200
TZOFFSETTO:+0100
TZNAME:CET
DTSTART:20251026T010000
END:STANDARD
BEGIN:DAYLIGHT
TZOFFSETFROM:+0100
TZOFFSETTO:+0200
TZNAME:CEST
DTSTART:20260329T010000
END:DAYLIGHT
BEGIN:STANDARD
TZOFFSETFROM:+0200
TZOFFSETTO:+0100
TZNAME:CET
DTSTART:20261025T010000
END:STANDARD
BEGIN:DAYLIGHT
TZOFFSETFROM:+0100
TZOFFSETTO:+0200
TZNAME:CEST
DTSTART:20270328T010000
END:DAYLIGHT
BEGIN:STANDARD
TZOFFSETFROM:+0200
TZOFFSETTO:+0100
TZNAME:CET
DTSTART:20271031T010000
END:STANDARD
END:VTIMEZONE
BEGIN:VEVENT
DTSTART;TZID=Europe/Brussels:20260202T123000
DTEND;TZID=Europe/Brussels:20260202T133000
DTSTAMP:20260422T012908
CREATED:20251208T121119Z
LAST-MODIFIED:20251208T121119Z
UID:20507-1770035400-1770039000@www.psyly.me
SUMMARY:CampFire: Hoogsensitiviteit (met Lynn)
DESCRIPTION:Waarom je systeem sneller voelt\, waar je soms verdwaalt en hoe je je sensitiviteit stevig kan dragen. \nEnkel toegang via het Release Fire Membership. Nog geen lid? Meld je hier aan!
URL:https://www.psyly.me/event-psyly/campfire-hoogsensitiviteit-met-lynn/
LOCATION:Release Membership Fire (online)
CATEGORIES:CampFires
END:VEVENT
BEGIN:VEVENT
DTSTART;TZID=Europe/Brussels:20260208T130000
DTEND;TZID=Europe/Brussels:20260208T134500
DTSTAMP:20260422T012908
CREATED:20251208T121305Z
LAST-MODIFIED:20251208T121305Z
UID:20509-1770555600-1770558300@www.psyly.me
SUMMARY:CampFire: Relaxing Soundbath (met Kristof)
DESCRIPTION:Deze sessie helpt je om even uit de chronische ‘aan-stand’ te stappen waar zoveel mensen in blijven hangen. \nEnkel toegang via het Release Fire Membership. Nog geen lid? Meld je hier aan!
URL:https://www.psyly.me/event-psyly/campfire-relaxing-soundbath-met-kristof/
LOCATION:Release Membership Fire (online)
CATEGORIES:CampFires
END:VEVENT
BEGIN:VEVENT
DTSTART;TZID=Europe/Brussels:20260219T190000
DTEND;TZID=Europe/Brussels:20260219T200000
DTSTAMP:20260422T012908
CREATED:20251208T121431Z
LAST-MODIFIED:20260129T090225Z
UID:20511-1771527600-1771531200@www.psyly.me
SUMMARY:CampFire: ADHD & het lichaam (met Niki)
DESCRIPTION:Prikkelverwerking\, proprioceptie\, beweging en waarom je lichaam soms ‘luid’ wordt wanneer je hoofd stil moet zijn. \nEnkel toegang via het Release Fire Membership. Nog geen lid? Meld je hier aan!
URL:https://www.psyly.me/event-psyly/campfire-adhd-het-lichaam-met-niki/
LOCATION:Release Membership Fire (online)
CATEGORIES:CampFires
END:VEVENT
BEGIN:VEVENT
DTSTART;TZID=Europe/Brussels:20260316T123000
DTEND;TZID=Europe/Brussels:20260316T133000
DTSTAMP:20260422T012908
CREATED:20251208T121554Z
LAST-MODIFIED:20251208T121554Z
UID:20513-1773664200-1773667800@www.psyly.me
SUMMARY:CampFire: Van pleasen naar presence (met Lynn)
DESCRIPTION:Hoe je jezelf subtiel verliest in relaties\, en hoe je weer in het midden van het gesprek kan blijven. \nEnkel toegang via het Release Fire Membership. Nog geen lid? Meld je hier aan!
URL:https://www.psyly.me/event-psyly/campfire-van-pleasen-naar-presence-met-lynn/
LOCATION:Release Membership Fire (online)
CATEGORIES:CampFires
END:VEVENT
BEGIN:VEVENT
DTSTART;TZID=Europe/Brussels:20260326T190000
DTEND;TZID=Europe/Brussels:20260326T200000
DTSTAMP:20260422T012908
CREATED:20251208T121709Z
LAST-MODIFIED:20260129T090230Z
UID:20515-1774551600-1774555200@www.psyly.me
SUMMARY:CampFire: ADHD\, stress & emoties (met Niki)
DESCRIPTION:Waarom je sneller overspoelt\, harder reageert\, waarom je herstel zo traag komt\, en hoe je emoties kunt dragen via je zenuwstelsel in plaats van ze te onderdrukken. \nEnkel toegang via het Release Fire Membership. Nog geen lid? Meld je hier aan!
URL:https://www.psyly.me/event-psyly/campfire-adhd-stress-emoties-met-niki/
LOCATION:Release Membership Fire (online)
CATEGORIES:CampFires
END:VEVENT
END:VCALENDAR