BEGIN:VCALENDAR
VERSION:2.0
PRODID:-//PSYLY - ECPv6.15.20//NONSGML v1.0//EN
CALSCALE:GREGORIAN
METHOD:PUBLISH
X-ORIGINAL-URL:https://www.psyly.me
X-WR-CALDESC:Events voor PSYLY
REFRESH-INTERVAL;VALUE=DURATION:PT1H
X-Robots-Tag:noindex
X-PUBLISHED-TTL:PT1H
BEGIN:VTIMEZONE
TZID:Europe/Brussels
BEGIN:DAYLIGHT
TZOFFSETFROM:+0100
TZOFFSETTO:+0200
TZNAME:CEST
DTSTART:20250330T010000
END:DAYLIGHT
BEGIN:STANDARD
TZOFFSETFROM:+0200
TZOFFSETTO:+0100
TZNAME:CET
DTSTART:20251026T010000
END:STANDARD
BEGIN:DAYLIGHT
TZOFFSETFROM:+0100
TZOFFSETTO:+0200
TZNAME:CEST
DTSTART:20260329T010000
END:DAYLIGHT
BEGIN:STANDARD
TZOFFSETFROM:+0200
TZOFFSETTO:+0100
TZNAME:CET
DTSTART:20261025T010000
END:STANDARD
BEGIN:DAYLIGHT
TZOFFSETFROM:+0100
TZOFFSETTO:+0200
TZNAME:CEST
DTSTART:20270328T010000
END:DAYLIGHT
BEGIN:STANDARD
TZOFFSETFROM:+0200
TZOFFSETTO:+0100
TZNAME:CET
DTSTART:20271031T010000
END:STANDARD
END:VTIMEZONE
BEGIN:VEVENT
DTSTART;TZID=Europe/Brussels:20260130T103000
DTEND;TZID=Europe/Brussels:20260130T111500
DTSTAMP:20260421T232121
CREATED:20251208T120936Z
LAST-MODIFIED:20251208T120936Z
UID:20505-1769769000-1769771700@www.psyly.me
SUMMARY:CampFire: Van slaapstrijd naar rust (met Ief)
DESCRIPTION:Waarom slapeloosheid niet is wat je denkt\, waarom je brein je wakker houdt\, welke patronen insomnia in stand houden\, en hoe de NATTO aanpak van Daniel Erichsen je zacht én doeltreffend terug gidst naar natuurlijke slaap. \nEnkel toegang via het Release Fire Membership. Nog geen lid? Meld je hier aan!
URL:https://www.psyly.me/event-psyly/campfire-van-slaapstrijd-naar-rust-met-ief/
LOCATION:Release Membership Fire (online)
CATEGORIES:CampFires
END:VEVENT
END:VCALENDAR